BEGIN:VCALENDAR
VERSION:2.0
PRODID:-//Borealis Wind Quintet - ECPv6.15.20//NONSGML v1.0//EN
CALSCALE:GREGORIAN
METHOD:PUBLISH
X-WR-CALNAME:Borealis Wind Quintet
X-ORIGINAL-URL:https://borealiswindquintet.com
X-WR-CALDESC:Events for Borealis Wind Quintet
REFRESH-INTERVAL;VALUE=DURATION:PT1H
X-Robots-Tag:noindex
X-PUBLISHED-TTL:PT1H
BEGIN:VTIMEZONE
TZID:UTC
BEGIN:STANDARD
TZOFFSETFROM:+0000
TZOFFSETTO:+0000
TZNAME:UTC
DTSTART:20200101T000000
END:STANDARD
END:VTIMEZONE
BEGIN:VEVENT
DTSTART;VALUE=DATE:20211017
DTEND;VALUE=DATE:20211018
DTSTAMP:20260420T102132
CREATED:20211229T180237Z
LAST-MODIFIED:20211229T180237Z
UID:1293-1634428800-1634515199@borealiswindquintet.com
SUMMARY:Chamber Society of Bethlehem
DESCRIPTION:Bethlehem\, PA with Margaret Kampmeier\, piano and Will deVos\, horn
URL:https://borealiswindquintet.com/event/chamber-society-of-bethlehem/
LOCATION:Bethlehem Chamber Music Society\, Bethlehem\, PA\, United States
END:VEVENT
END:VCALENDAR